BEGIN:VCALENDAR
PRODID:-//eluceo/ical//2.0/EN
VERSION:2.0
CALSCALE:GREGORIAN
BEGIN:VEVENT
UID:193abd0206e6523c405567d96aad9ec1
DTSTAMP:20260422T094855Z
SUMMARY:Swiss Mountain Adventure Camp 2025
DESCRIPTION:Sito web: https://www.rotaryswissyep.ch/camps/062-swiss-mountai
 n-adventure-camp-2025-switzerland/?lang=de
URL:https://polaris.rotary.ch/it/agenda/show/198071
DTSTART;TZID=Europe/Zurich:20250628T100000
DTEND;TZID=Europe/Zurich:20250712T180000
LOCATION:Wallis
CATEGORIES:Rotary
END:VEVENT
BEGIN:VTIMEZONE
TZID:Europe/Zurich
BEGIN:DAYLIGHT
DTSTART:20250628T100000
TZNAME:CEST
TZOFFSETTO:+0200
TZOFFSETFROM:+0200
END:DAYLIGHT
END:VTIMEZONE
END:VCALENDAR
