BEGIN:VCALENDAR
PRODID:-//eluceo/ical//2.0/EN
VERSION:2.0
CALSCALE:GREGORIAN
BEGIN:VEVENT
UID:06143a6116c47c547bad00fc23d76d36
DTSTAMP:20260421T115438Z
SUMMARY:Vortrag von Cory Edwards Rotary international Polio
DESCRIPTION:Website: http://www.stadtpark.ch\nSpeaker(s): Cory Edwards
URL:https://uster.rotary2000.ch/en/agenda/show/173341
DTSTART;TZID=Europe/Zurich:20240314T114500
DTEND;TZID=Europe/Zurich:20240314T134500
LOCATION:Theaterstrasse 4\, 8610 Uster\, Schweiz
CATEGORIES:Rotary
END:VEVENT
BEGIN:VTIMEZONE
TZID:Europe/Zurich
BEGIN:STANDARD
DTSTART:20240314T114500
TZNAME:CET
TZOFFSETTO:+0100
TZOFFSETFROM:+0100
END:STANDARD
END:VTIMEZONE
END:VCALENDAR
