BEGIN:VCALENDAR
PRODID:-//eluceo/ical//2.0/EN
VERSION:2.0
CALSCALE:GREGORIAN
BEGIN:VEVENT
UID:d6eae486a80c2b37a1d16b9c09ffe2bd
DTSTAMP:20260424T122139Z
SUMMARY:Formation de la jeunesse au Nepal  rotary Nepal
DESCRIPTION:Website: http://pullyport.ch/\nSpeaker(s): Sherpa  Lhakpa 1ere
  femme a avoir gravi l'Everest Rotarienne Ex presidente des guides du Nepa
 l.......
URL:https://pully.rotary1990.ch/en/agenda/show/150944
DTSTART;TZID=Europe/Zurich:20221110T120000
DTEND;TZID=Europe/Zurich:20221110T140000
LOCATION:RC Pully - Restaurant du Port de Pully\, Route du Port  7\, 1009 P
 ully
CATEGORIES:Rotary
END:VEVENT
BEGIN:VTIMEZONE
TZID:Europe/Zurich
BEGIN:STANDARD
DTSTART:20221110T120000
TZNAME:CET
TZOFFSETTO:+0100
TZOFFSETFROM:+0100
END:STANDARD
END:VTIMEZONE
END:VCALENDAR
