BEGIN:VCALENDAR
PRODID:-//eluceo/ical//2.0/EN
VERSION:2.0
CALSCALE:GREGORIAN
BEGIN:VEVENT
UID:b947088e3b378e6fc7f1a5a30f2f751a
DTSTAMP:20260423T071221Z
SUMMARY:Plauderlunch fällt aus
DESCRIPTION:Webseite: http://www.stadtpark.ch
URL:https://uster.rotary2000.ch/de/agenda/show/187060
DTSTART;TZID=Europe/Zurich:20250102T114500
DTEND;TZID=Europe/Zurich:20250102T133000
LOCATION:Theaterstrasse 4\, 8610 Uster\, Schweiz
CATEGORIES:Rotary
END:VEVENT
BEGIN:VTIMEZONE
TZID:Europe/Zurich
BEGIN:STANDARD
DTSTART:20250102T114500
TZNAME:CET
TZOFFSETTO:+0100
TZOFFSETFROM:+0100
END:STANDARD
END:VTIMEZONE
END:VCALENDAR
