BEGIN:VCALENDAR
PRODID:-//eluceo/ical//2.0/EN
VERSION:2.0
CALSCALE:GREGORIAN
BEGIN:VEVENT
UID:f578999a5290c2c0a57648a4fd945325
DTSTAMP:20260423T041351Z
SUMMARY:Plauderlunch fällt aus
DESCRIPTION:Webseite: http://www.stadtpark.ch
URL:https://uster.rotary2000.ch/de/agenda/show/187058
DTSTART;TZID=Europe/Zurich:20241226T114500
DTEND;TZID=Europe/Zurich:20241226T114500
LOCATION:Theaterstrasse 4\, 8610 Uster\, Schweiz
CATEGORIES:Rotary
END:VEVENT
BEGIN:VTIMEZONE
TZID:Europe/Zurich
BEGIN:STANDARD
DTSTART:20241226T114500
TZNAME:CET
TZOFFSETTO:+0100
TZOFFSETFROM:+0100
END:STANDARD
END:VTIMEZONE
END:VCALENDAR
