BEGIN:VCALENDAR
PRODID:-//eluceo/ical//2.0/EN
VERSION:2.0
CALSCALE:GREGORIAN
BEGIN:VEVENT
UID:f525768d1906b7c6cdfa2380698f5acd
DTSTAMP:20260423T041453Z
SUMMARY:Rotary-Zmorgen
DESCRIPTION:Webseite: https://www.hotelilluster.ch/
URL:https://uster.rotary2000.ch/de/agenda/show/187042
DTSTART;TZID=Europe/Zurich:20241218T064500
DTEND;TZID=Europe/Zurich:20241218T074500
LOCATION:Zmorgeträff Hotel Illuster\, Zürichstrasse 14\, 8610  Uster
CATEGORIES:Rotary
END:VEVENT
BEGIN:VTIMEZONE
TZID:Europe/Zurich
BEGIN:STANDARD
DTSTART:20241218T064500
TZNAME:CET
TZOFFSETTO:+0100
TZOFFSETFROM:+0100
END:STANDARD
END:VTIMEZONE
END:VCALENDAR
