BEGIN:VCALENDAR
PRODID:-//eluceo/ical//2.0/EN
VERSION:2.0
CALSCALE:GREGORIAN
BEGIN:VEVENT
UID:5b7cf2d0c6c58b12eb079c55f697632c
DTSTAMP:20260419T150048Z
SUMMARY:Management von Spannungsfeldern
DESCRIPTION:Webseite: http://www.wallberg.ch\nReferenten/innen: Rotarier Da
 niel Lüscher
URL:https://rotaryvolketswil.ch/de/agenda/show/186696
DTSTART;TZID=Europe/Zurich:20250417T114500
DTEND;TZID=Europe/Zurich:20250417T133000
LOCATION:Parkhotel Wallberg\, Eichholzstrasse 1\, 8604 Volketswil
CATEGORIES:Rotary
END:VEVENT
BEGIN:VTIMEZONE
TZID:Europe/Zurich
BEGIN:DAYLIGHT
DTSTART:20250417T114500
TZNAME:CEST
TZOFFSETTO:+0200
TZOFFSETFROM:+0200
END:DAYLIGHT
END:VTIMEZONE
END:VCALENDAR
