BEGIN:VCALENDAR
PRODID:-//eluceo/ical//2.0/EN
VERSION:2.0
CALSCALE:GREGORIAN
BEGIN:VEVENT
UID:6a32117749f22c9e771ff752048a647b
DTSTAMP:20260423T023119Z
SUMMARY:Weihnachten mit PartnerIn
DESCRIPTION:Webseite: http://pfadizentrum.ch
URL:https://uster.rotary2000.ch/de/agenda/show/185811
DTSTART;TZID=Europe/Zurich:20241219T180000
DTEND;TZID=Europe/Zurich:20241219T223000
LOCATION:Pfadizentrum Uster\, Winiker Püntenweg 6-12\, 8610 Uster
CATEGORIES:Rotary
END:VEVENT
BEGIN:VTIMEZONE
TZID:Europe/Zurich
BEGIN:STANDARD
DTSTART:20241219T180000
TZNAME:CET
TZOFFSETTO:+0100
TZOFFSETFROM:+0100
END:STANDARD
END:VTIMEZONE
END:VCALENDAR
