BEGIN:VCALENDAR
PRODID:-//eluceo/ical//2.0/EN
VERSION:2.0
CALSCALE:GREGORIAN
BEGIN:VEVENT
UID:166860aa38c84ad64cff9664ef0a234a
DTSTAMP:20260421T140856Z
SUMMARY:Hands on
DESCRIPTION:Govornik(ci): 
URL:https://uster.rotary2000.ch/bs/agenda/show/187317
DTSTART;TZID=Europe/Zurich:20241116T090000
DTEND;TZID=Europe/Zurich:20241116T150000
LOCATION:Strandbad Uster\, Uferweg 7\, 8610 Uster\, Schweiz
CATEGORIES:Rotary
END:VEVENT
BEGIN:VTIMEZONE
TZID:Europe/Zurich
BEGIN:STANDARD
DTSTART:20241116T090000
TZNAME:CET
TZOFFSETTO:+0100
TZOFFSETFROM:+0100
END:STANDARD
END:VTIMEZONE
END:VCALENDAR
